BEGIN:VCALENDAR
VERSION:2.0
PRODID:-//wp-events-plugin.com//7.0.2//EN
BEGIN:VEVENT
UID:13@gtc100swb.com
DTSTART;TZID=Pacific/Easter;VALUE=DATE:20240630
DTEND;TZID=Pacific/Easter;VALUE=DATE:20240701
DTSTAMP:20240508T165727Z
URL:https://gtc100swb.com/events/women-business-expo-conferences-tampa-sho
 w-2024/
SUMMARY:WOMEN BUSINESS EXPO &amp\; CONFERENCES TAMPA SHOW 2024
DESCRIPTION:OUR UPCOMING WOMEN BUSINESS EXPO AND CONFERENCES\, DESIGNED T
 O EMPOWER AND INSPIRE WOMEN ENTREPRENEURS LIKE YOU!
CATEGORIES:Global Trade Chamber
END:VEVENT
BEGIN:VTIMEZONE
TZID:Pacific/Easter
X-LIC-LOCATION:Pacific/Easter
BEGIN:STANDARD
DTSTART:20240406T210000
TZOFFSETFROM:-0500
TZOFFSETTO:-0600
TZNAME:-06
END:STANDARD
END:VTIMEZONE
END:VCALENDAR