BEGIN:VCALENDAR
VERSION:2.0
PRODID:-//wp-events-plugin.com//7.0.2//EN
BEGIN:VEVENT
UID:6@gtc100swb.com
DTSTART;VALUE=DATE:20230330
DTEND;VALUE=DATE:20231231
DTSTAMP:20221213T153255Z
URL:https://gtc100swb.com/events/women-business-expo-conference-in-philade
 lphia/
SUMMARY:Women Business Expo & Conference in Philadelphia
DESCRIPTION:WHY ATTEND THE EXPO AND CONFERENCES\n\n 	Learn from industry ex
 perts at the conferences and panels\n 	Connect with potential clients at t
 he networking activities\n 	Find new products and services at the business
  expo\n 	Meet face-to-face with other entrepreneurs at the speed- networki
 ng\n 	Take pictures at the red-carpet\n 	Win prizes\n 	Promote your busine
 ss\n\nDon't be left out\, attend the biggest Women in Business Expo.\n\nIf
  you are interested in exhibiting or sponsoring this amazing event\, call 
 or email us. We have created significant opportunities to maximize exposur
 e as an exhibitor and sponsor at the Conference &amp\; Expo. Tel: 1- 954- 
 839-8866 - Email: sales@globaltradechamber.com\n\nYou can also reserve her
 e\n\n100 Successful Women in Business Network\, a division of the Global T
 rade Chamber connects\, promotes\, empowers\, inspires\, and recognizes wo
 men entrepreneurs worldwide.
ATTACH;FMTTYPE=image/jpeg:https://gtc100swb.com/wp-content/uploads/2022/12
 /Capture.png
LOCATION:https://www.eventbrite.com/e/women-business-expo-conference-in-phi
 ladelphia-tickets-474359671547
END:VEVENT
END:VCALENDAR