BEGIN:VCALENDAR
VERSION:2.0
PRODID:-//wp-events-plugin.com//7.0.2//EN
BEGIN:VEVENT
UID:12@gtc100swb.com
DTSTART:20240303T163000Z
DTEND:20240303T183000Z
DTSTAMP:20240209T035406Z
URL:https://gtc100swb.com/events/transform-your-life-with-gut-health/
SUMMARY:Transform Your Life With Gut Health
DESCRIPTION:Transform Your Life With Gut Health\n\nJoin us for an exciting 
 online event where we dive deep into the world of gut health and its trans
 formative effects on your overall well-being. Discover the power of your g
 ut and learn how to harness it for a healthier\, happier you!\n\nDate: Su
 n Mar 03 2024\n\nTime: 11:30 AM (EST)\n\nDuring this event\, our expert s
 peakers will share valuable insights\, tips\, and strategies to optimize y
 our gut health. From understanding the gut-brain connection to exploring t
 he benefits of a balanced microbiome\, you'll gain a comprehensive underst
 anding of how your gut impacts your physical and mental health.\n\nDon't m
 iss out on this opportunity to gain valuable knowledge and tools to trans
 form your life. Reserve your spot today and embark on a journey towards a 
 healthier gut and a happier you!
ATTACH;FMTTYPE=image/jpeg:https://gtc100swb.com/wp-content/uploads/2024/02
 /https___cdn.evbuc_.com_images_660332299_1814405499643_1_original.jpeg
LOCATION:https://www.eventbrite.com/e/transfrom-your-life-with-gut-health-t
 ickets-779611367587?aff=ebdshpsearchautocomplete
END:VEVENT
END:VCALENDAR