BEGIN:VCALENDAR
VERSION:2.0
PRODID:-//wp-events-plugin.com//7.0.2//EN
BEGIN:VEVENT
UID:15@gtc100swb.com
DTSTART:20240919T090000Z
DTEND:20240920T160000Z
DTSTAMP:20240718T200053Z
URL:https://gtc100swb.com/events/trade-mission-lima-peru/
SUMMARY:TRADE MISSION  LIMA - PERU
DESCRIPTION:Unlock Opportunities in Peru: Your Guide to Business Success\n\
 n&nbsp\;\n\nJoin us for an exclusive trip where you can:\n\n 	Meet with po
 tential clients\n 	Participate as a speaker at the conference\n 	Explore t
 he Peruvian Market\n 	Expand your Business Market\n 	Explore new collabora
 tion opportunities\n 	Touring Lima Peru\n
ATTACH;FMTTYPE=image/jpeg:https://gtc100swb.com/wp-content/uploads/2024/07
 /WhatsApp-Image-2024-07-13-at-00.23.34_dc1d0d2b.jpg
CATEGORIES:Global Trade Chamber
END:VEVENT
END:VCALENDAR