BEGIN:VCALENDAR
VERSION:2.0
PRODID:-//wp-events-plugin.com//7.0.2//EN
BEGIN:VEVENT
UID:9@gtc100swb.com
DTSTART;VALUE=DATE:20230917
DTEND;VALUE=DATE:20230918
DTSTAMP:20221213T154153Z
URL:https://gtc100swb.com/events/global-trade-convention/
SUMMARY:Global Trade Convention
DESCRIPTION:The Annual Global Trade Convention aims to connect\, educate\, 
 promote\, and recognize companies that are furthering international trade.
 " For over 15 years\, the Global Trade Chamber has helped international en
 trepreneurs start and grow successful businesses.
ATTACH;FMTTYPE=image/jpeg:https://gtc100swb.com/wp-content/uploads/2022/12
 /Capture.jpg
LOCATION:https://globaltradechamber.com/puerto-rico/?
END:VEVENT
END:VCALENDAR