BEGIN:VCALENDAR
VERSION:2.0
PRODID:-//wp-events-plugin.com//7.0.2//EN
BEGIN:VEVENT
UID:14@gtc100swb.com
DTSTART:20241023T000000Z
DTEND:20241026T000000Z
DTSTAMP:20240508T171005Z
URL:https://gtc100swb.com/events/100-successful-women-in-business-annual-c
 onvention/
SUMMARY:100 Successful Women in Business Annual Convention
DESCRIPTION:We are thrilled to announce that our annual convention is comin
 g up in Las Vegas\, Nevada! This years event is all about celebrating the 
 success of women in business\, and we couldn’t be more excited.\n\nWe wi
 ll be honoring 100 incredible women from 100 different nationalities with 
 awards for their outstanding achievements\, and we want you to be a part o
 f it.
CATEGORIES:Global Trade Chamber
LOCATION:Plaza Hotel &amp\; Casino Las Vegas\,  1 N Main St\, Las Vegas\, N
 V\, LAS VEGAS\, NEVADA\, 89101\, United States
X-APPLE-STRUCTURED-LOCATION;VALUE=URI;X-ADDRESS= 1 N Main St\, Las Vegas\, 
 NV\, LAS VEGAS\, NEVADA\, 89101\, United States;X-APPLE-RADIUS=100;X-TITLE
 =Plaza Hotel & Casino Las Vegas:geo:0,0
END:VEVENT
END:VCALENDAR